BEGIN:VCALENDAR
VERSION:2.0
PRODID:-//Vrienden van Archeon - ECPv6.15.20//NONSGML v1.0//EN
CALSCALE:GREGORIAN
METHOD:PUBLISH
X-ORIGINAL-URL:https://www.vrienden-archeon.nl
X-WR-CALDESC:Evenementen voor Vrienden van Archeon
REFRESH-INTERVAL;VALUE=DURATION:PT1H
X-Robots-Tag:noindex
X-PUBLISHED-TTL:PT1H
BEGIN:VTIMEZONE
TZID:UTC
BEGIN:STANDARD
TZOFFSETFROM:+0000
TZOFFSETTO:+0000
TZNAME:UTC
DTSTART:20250101T000000
END:STANDARD
END:VTIMEZONE
BEGIN:VEVENT
DTSTART;TZID=UTC:20260304T200000
DTEND;TZID=UTC:20260304T220000
DTSTAMP:20260423T110024
CREATED:20260208T085646Z
LAST-MODIFIED:20260208T091429Z
UID:236757-1772654400-1772661600@www.vrienden-archeon.nl
SUMMARY:Mesopotamisch nieuwjaar: van goddelijke vruchtbaarheid tot ultieme machtswellust
DESCRIPTION:Ratna Drost studeerde cum laude af als kunsthistorica (oude kunst) aan de Universiteit Utrecht en studeerde daarna\, eveneens in Utrecht\, Oudheidkunde. Als kunsthistorica en oudheidspecialist heeft zij zich altijd zoveel mogelijk gericht op het samenspel tussen geschiedenis\, kunst\, godsdienstwetenschap en maatschappijleer; het een vertelt bijzonder veel over het ander. Zij studeerde als oudheidkundige uiteindelijk af op de ontwikkelingsgeschiedenis en viering van met Mesopotamische nieuwjaar in maart\, Nisannu Akitu.  \nEen andere grote liefde en specialisatie\, vond zij in het bestuderen van het (dagelijks)leven van vrouwen en kinderen in de oudheid\, thematiek die niet veel aan bod komt. Een specialisatie die zich buiten de studie-uren om ontwikkelde is het onderzoeken en namaken van Romeinse kleding voor vrouwen en kinderen\, aan de hand van sculpturen\, fresco’s\, mozaïeken en geschreven primaire bronnen. Verschillende Romeinse re-enactment groepen uit andere delen van de wereld doen met regelmaat een beroep op deze opgebouwde expertise. \nAanvullende informatie: \nGratis parkeren op het parkeerterrein van Museumpark Archeon.
URL:https://www.vrienden-archeon.nl/event/mesopotamisch-nieuwjaar-van-goddelijke-vruchtbaarheid-tot-ultieme-machtswellust/
LOCATION:Archeologiehuis Zuid-Holland bij Archeon
CATEGORIES:Lezing
ATTACH;FMTTYPE=image/jpeg:https://www.vrienden-archeon.nl/wp-content/uploads/2026/02/lezing-4-maart-3.jpeg
ORGANIZER;CN="Ratna Drost":MAILTO:lmvansister@gmail.com
END:VEVENT
BEGIN:VEVENT
DTSTART;TZID=UTC:20260328T150000
DTEND;TZID=UTC:20260328T163000
DTSTAMP:20260423T110024
CREATED:20260221T142536Z
LAST-MODIFIED:20260311T074708Z
UID:236796-1774710000-1774715400@www.vrienden-archeon.nl
SUMMARY:Vriendendaglezing:  Middeleeuwse mode: de evolutie van laat middeleeuwse kledij (1250-1500)
DESCRIPTION:Sophie Dillen\, beter bekend in de re-enactmentwereld als Maiden Minne\, houdt zich al meer dan tien jaar intensief bezig met middeleeuwse kledij en textielproductie. Haar kennis en passie deelt zij zowel via haar marktkraam op historische evenementen als online via maidenminne.com. In Archeon neemt zij het publiek mee naar de late middeleeuwen\, om de evolutie van mode te illustreren. \nSophie behaalde de masters Architectuur en Erfgoed\, waarin geschiedenis en creativiteit samenkomen—een rode draad in haar leven. Haar interesse voor re-enactment ontstond tijdens een historisch spektakel in haar dorp en groeide uit tot een langdurige passie. Omdat de bloeiperiode van het Hertogdom Brabantnauw verbonden is met de textielnijverheid\, vormt dit het focuspunt van haar onderzoek en activiteiten. Met haar middeleeuwse stoffenkraam is zij aanwezig op tal van evenementen\, waar een kleurrijk aanbod van wollen stoffen bezoekers uitnodigt om meer te leren over productie\, gebruik en betekenis van textiel in de middeleeuwen.
URL:https://www.vrienden-archeon.nl/event/vriendendag-middaglezing-28-maart/
LOCATION:Museumpark Archeon\, In de Romeinse Herberg
CATEGORIES:Lezing
ATTACH;FMTTYPE=image/jpeg:https://www.vrienden-archeon.nl/wp-content/uploads/2026/02/28-maart-lezing-3.jpeg
END:VEVENT
END:VCALENDAR